Workbook

Sheet HOME
A2: Home | B2: Home | C2: Dashboard | D2: Dashboard | E2: Daily plan | F2: Daily plan | G2: Tasks | H2: Tasks | I2: Checklists | J2: Checklists | K2: Handover | L2: Handover | M2: Issues | N2: Issues | O2: KPI log | P2: KPI log | Q2: Setup | R2: Setup | S2: Audit | T2: Audit
A4: DAILY OPERATIONS | B4: DAILY OPERATIONS | C4: DAILY OPERATIONS | D4: DAILY OPERATIONS | E4: DAILY OPERATIONS | F4: DAILY OPERATIONS | G4: DAILY OPERATIONS | H4: DAILY OPERATIONS | I4: DAILY OPERATIONS | J4: DAILY OPERATIONS | K4: DAILY OPERATIONS | L4: DAILY OPERATIONS | M4: DAILY OPERATIONS | N4: DAILY OPERATIONS | O4: DAILY OPERATIONS | P4: DAILY OPERATIONS | Q4: DAILY OPERATIONS | R4: DAILY OPERATIONS | S4: DAILY OPERATIONS | T4: DAILY OPERATIONS
A6: Daily Operations Control Center | B6: Daily Operations Control Center | C6: Daily Operations Control Center | D6: Daily Operations Control Center | E6: Daily Operations Control Center | F6: Daily Operations Control Center | G6: Daily Operations Control Center | H6: Daily Operations Control Center | I6: Daily Operations Control Center | J6: Daily Operations Control Center | K6: Daily Operations Control Center | L6: Daily Operations Control Center | M6: Daily Operations Control Center | N6: Daily Operations Control Center | O6: Daily Operations Control Center | P6: Daily Operations Control Center | Q6: Daily Operations Control Center | R6: Daily Operations Control Center | S6: Daily Operations Control Center | T6: Daily Operations Control Center
A7: Run the day from one practical system for tasks, checks, handovers, issues, actions, and KPIs. | B7: Run the day from one practical system for tasks, checks, handovers, issues, actions, and KPIs. | C7: Run the day from one practical system for tasks, checks, handovers, issues, actions, and KPIs. | D7: Run the day from one practical system for tasks, checks, handovers, issues, actions, and KPIs. | E7: Run the day from one practical system for tasks, checks, handovers, issues, actions, and KPIs. | F7: Run the day from one practical system for tasks, checks, handovers, issues, actions, and KPIs. | G7: Run the day from one practical system for tasks, checks, handovers, issues, actions, and KPIs. | H7: Run the day from one practical system for tasks, checks, handovers, issues, actions, and KPIs. | I7: Run the day from one practical system for tasks, checks, handovers, issues, actions, and KPIs. | J7: Run the day from one practical system for tasks, checks, handovers, issues, actions, and KPIs. | K7: Run the day from one practical system for tasks, checks, handovers, issues, actions, and KPIs. | L7: Run the day from one practical system for tasks, checks, handovers, issues, actions, and KPIs. | M7: Run the day from one practical system for tasks, checks, handovers, issues, actions, and KPIs. | N7: Run the day from one practical system for tasks, checks, handovers, issues, actions, and KPIs. | O7: Run the day from one practical system for tasks, checks, handovers, issues, actions, and KPIs. | P7: Run the day from one practical system for tasks, checks, handovers, issues, actions, and KPIs. | Q7: Run the day from one practical system for tasks, checks, handovers, issues, actions, and KPIs. | R7: Run the day from one practical system for tasks, checks, handovers, issues, actions, and KPIs. | S7: Run the day from one practical system for tasks, checks, handovers, issues, actions, and KPIs. | T7: Run the day from one practical system for tasks, checks, handovers, issues, actions, and KPIs.
A9: TODAY'S OPERATING PULSE | B9: TODAY'S OPERATING PULSE | C9: TODAY'S OPERATING PULSE | D9: TODAY'S OPERATING PULSE | E9: TODAY'S OPERATING PULSE | F9: TODAY'S OPERATING PULSE | G9: TODAY'S OPERATING PULSE | H9: TODAY'S OPERATING PULSE | I9: TODAY'S OPERATING PULSE | J9: TODAY'S OPERATING PULSE | K9: TODAY'S OPERATING PULSE | L9: TODAY'S OPERATING PULSE | M9: TODAY'S OPERATING PULSE | N9: TODAY'S OPERATING PULSE | O9: TODAY'S OPERATING PULSE | P9: TODAY'S OPERATING PULSE | Q9: TODAY'S OPERATING PULSE | R9: TODAY'S OPERATING PULSE | S9: TODAY'S OPERATING PULSE | T9: TODAY'S OPERATING PULSE
A11: Open tasks | B11: Open tasks | C11: Open tasks | D11: Open tasks | F11: Actions overdue | G11: Actions overdue | H11: Actions overdue | I11: Actions overdue | J11: Actions overdue | L11: Checklist complete | M11: Checklist complete | N11: Checklist complete | O11: Checklist complete | Q11: High-risk issues | R11: High-risk issues | S11: High-risk issues | T11: High-risk issues
A12: =COUNTIF(TASKS!$M$11:$M$110,"Overdue")+COUNTIF(TASKS!$M$11:$M$110,"Due today")+COUNTIF(TASKS!$M$11:$M$110,"Due soon")+COUNTIF(TASKS!$M$11:$M$110,"On track") -> 11 | F12: =COUNTIF(TASKS!$M$11:$M$110,"Overdue")+COUNTIF(HANDOVER!$M$11:$M$100,"Overdue")+COUNTIF(ISSUES!$P$11:$P$100,"Overdue") -> 3 | L12: =IF(COUNTIFS(CHECKLISTS!$B$11:$B$130,SETUP!$D$11,CHECKLISTS!$G$11:$G$130,"Yes")=0,"",COUNTIFS(CHECKLISTS!$B$11:$B$130,SETUP!$D$11,CHECKLISTS!$G$11:$G$130,"Yes",CHECKLISTS!$H$11:$H$130,"Complete")/COUNTIFS(CHECKLISTS!$B$11:$B$130,SETUP!$D$11,CHECKLISTS!$G$11:$G$130,"Yes")) -> 0.625 | Q12: =COUNTIFS(ISSUES!$E$11:$E$100,"Critical",ISSUES!$L$11:$L$100,"<>Closed")+COUNTIFS(ISSUES!$E$11:$E$100,"High",ISSUES!$L$11:$L$100,"<>Closed") -> 2
A17: OPERATING RHYTHM | B17: OPERATING RHYTHM | C17: OPERATING RHYTHM | D17: OPERATING RHYTHM | E17: OPERATING RHYTHM | F17: OPERATING RHYTHM | G17: OPERATING RHYTHM | H17: OPERATING RHYTHM | I17: OPERATING RHYTHM | J17: OPERATING RHYTHM | K17: OPERATING RHYTHM | L17: OPERATING RHYTHM | M17: OPERATING RHYTHM | N17: OPERATING RHYTHM | O17: OPERATING RHYTHM | P17: OPERATING RHYTHM | Q17: OPERATING RHYTHM | R17: OPERATING RHYTHM | S17: OPERATING RHYTHM | T17: OPERATING RHYTHM
A19: Start the day Confirm staffing, priorities, opening checks, and outstanding handovers. | B19: Start the day Confirm staffing, priorities, opening checks, and outstanding handovers. | C19: Start the day Confirm staffing, priorities, opening checks, and outstanding handovers. | D19: Start the day Confirm staffing, priorities, opening checks, and outstanding handovers. | E19: Start the day Confirm staffing, priorities, opening checks, and outstanding handovers. | F19: Run the shift Update tasks, complete checks, record exceptions, and assign actions. | G19: Run the shift Update tasks, complete checks, record exceptions, and assign actions. | H19: Run the shift Update tasks, complete checks, record exceptions, and assign actions. | I19: Run the shift Update tasks, complete checks, record exceptions, and assign actions. | J19: Run the shift Update tasks, complete checks, record exceptions, and assign actions. | K19: Control problems Contain impact, record cause, set corrective action, and monitor closure. | L19: Control problems Contain impact, record cause, set corrective action, and monitor closure. | M19: Control problems Contain impact, record cause, set corrective action, and monitor closure. | N19: Control problems Contain impact, record cause, set corrective action, and monitor closure. | O19: Control problems Contain impact, record cause, set corrective action, and monitor closure. | P19: Review performance Compare KPIs with targets and carry unresolved work into the next shift. | Q19: Review performance Compare KPIs with targets and carry unresolved work into the next shift. | R19: Review performance Compare KPIs with targets and carry unresolved work into the next shift. | S19: Review performance Compare KPIs with targets and carry unresolved work into the next shift. | T19: Review performance Compare KPIs with targets and carry unresolved work into the next shift.
A20: Start the day Confirm staffing, priorities, opening checks, and outstanding handovers. | B20: Start the day Confirm staffing, priorities, opening checks, and outstanding handovers. | C20: Start the day Confirm staffing, priorities, opening checks, and outstanding handovers. | D20: Start the day Confirm staffing, priorities, opening checks, and outstanding handovers. | E20: Start the day Confirm staffing, priorities, opening checks, and outstanding handovers. | F20: Run the shift Update tasks, complete checks, record exceptions, and assign actions. | G20: Run the shift Update tasks, complete checks, record exceptions, and assign actions. | H20: Run the shift Update tasks, complete checks, record exceptions, and assign actions. | I20: Run the shift Update tasks, complete checks, record exceptions, and assign actions. | J20: Run the shift Update tasks, complete checks, record exceptions, and assign actions. | K20: Control problems Contain impact, record cause, set corrective action, and monitor closure. | L20: Control problems Contain impact, record cause, set corrective action, and monitor closure. | M20: Control problems Contain impact, record cause, set corrective action, and monitor closure. | N20: Control problems Contain impact, record cause, set corrective action, and monitor closure. | O20: Control problems Contain impact, record cause, set corrective action, and monitor closure. | P20: Review performance Compare KPIs with targets and carry unresolved work into the next shift. | Q20: Review performance Compare KPIs with targets and carry unresolved work into the next shift. | R20: Review performance Compare KPIs with targets and carry unresolved work into the next shift. | S20: Review performance Compare KPIs with targets and carry unresolved work into the next shift. | T20: Review performance Compare KPIs with targets and carry unresolved work into the next shift.
A21: Start the day Confirm staffing, priorities, opening checks, and outstanding handovers. | B21: Start the day Confirm staffing, priorities, opening checks, and outstanding handovers. | C21: Start the day Confirm staffing, priorities, opening checks, and outstanding handovers. | D21: Start the day Confirm staffing, priorities, opening checks, and outstanding handovers. | E21: Start the day Confirm staffing, priorities, opening checks, and outstanding handovers. | F21: Run the shift Update tasks, complete checks, record exceptions, and assign actions. | G21: Run the shift Update tasks, complete checks, record exceptions, and assign actions. | H21: Run the shift Update tasks, complete checks, record exceptions, and assign actions. | I21: Run the shift Update tasks, complete checks, record exceptions, and assign actions. | J21: Run the shift Update tasks, complete checks, record exceptions, and assign actions. | K21: Control problems Contain impact, record cause, set corrective action, and monitor closure. | L21: Control problems Contain impact, record cause, set corrective action, and monitor closure. | M21: Control problems Contain impact, record cause, set corrective action, and monitor closure. | N21: Control problems Contain impact, record cause, set corrective action, and monitor closure. | O21: Control problems Contain impact, record cause, set corrective action, and monitor closure. | P21: Review performance Compare KPIs with targets and carry unresolved work into the next shift. | Q21: Review performance Compare KPIs with targets and carry unresolved work into the next shift. | R21: Review performance Compare KPIs with targets and carry unresolved work into the next shift. | S21: Review performance Compare KPIs with targets and carry unresolved work into the next shift. | T21: Review performance Compare KPIs with targets and carry unresolved work into the next shift.
A22: Start the day Confirm staffing, priorities, opening checks, and outstanding handovers. | B22: Start the day Confirm staffing, priorities, opening checks, and outstanding handovers. | C22: Start the day Confirm staffing, priorities, opening checks, and outstanding handovers. | D22: Start the day Confirm staffing, priorities, opening checks, and outstanding handovers. | E22: Start the day Confirm staffing, priorities, opening checks, and outstanding handovers. | F22: Run the shift Update tasks, complete checks, record exceptions, and assign actions. | G22: Run the shift Update tasks, complete checks, record exceptions, and assign actions. | H22: Run the shift Update tasks, complete checks, record exceptions, and assign actions. | I22: Run the shift Update tasks, complete checks, record exceptions, and assign actions. | J22: Run the shift Update tasks, complete checks, record exceptions, and assign actions. | K22: Control problems Contain impact, record cause, set corrective action, and monitor closure. | L22: Control problems Contain impact, record cause, set corrective action, and monitor closure. | M22: Control problems Contain impact, record cause, set corrective action, and monitor closure. | N22: Control problems Contain impact, record cause, set corrective action, and monitor closure. | O22: Control problems Contain impact, record cause, set corrective action, and monitor closure. | P22: Review performance Compare KPIs with targets and carry unresolved work into the next shift. | Q22: Review performance Compare KPIs with targets and carry unresolved work into the next shift. | R22: Review performance Compare KPIs with targets and carry unresolved work into the next shift. | S22: Review performance Compare KPIs with targets and carry unresolved work into the next shift. | T22: Review performance Compare KPIs with targets and carry unresolved work into the next shift.
A23: Start the day Confirm staffing, priorities, opening checks, and outstanding handovers. | B23: Start the day Confirm staffing, priorities, opening checks, and outstanding handovers. | C23: Start the day Confirm staffing, priorities, opening checks, and outstanding handovers. | D23: Start the day Confirm staffing, priorities, opening checks, and outstanding handovers. | E23: Start the day Confirm staffing, priorities, opening checks, and outstanding handovers. | F23: Run the shift Update tasks, complete checks, record exceptions, and assign actions. | G23: Run the shift Update tasks, complete checks, record exceptions, and assign actions. | H23: Run the shift Update tasks, complete checks, record exceptions, and assign actions. | I23: Run the shift Update tasks, complete checks, record exceptions, and assign actions. | J23: Run the shift Update tasks, complete checks, record exceptions, and assign actions. | K23: Control problems Contain impact, record cause, set corrective action, and monitor closure. | L23: Control problems Contain impact, record cause, set corrective action, and monitor closure. | M23: Control problems Contain impact, record cause, set corrective action, and monitor closure. | N23: Control problems Contain impact, record cause, set corrective action, and monitor closure. | O23: Control problems Contain impact, record cause, set corrective action, and monitor closure. | P23: Review performance Compare KPIs with targets and carry unresolved work into the next shift. | Q23: Review performance Compare KPIs with targets and carry unresolved work into the next shift. | R23: Review performance Compare KPIs with targets and carry unresolved work into the next shift. | S23: Review performance Compare KPIs with targets and carry unresolved work into the next shift. | T23: Review performance Compare KPIs with targets and carry unresolved work into the next shift.
A24: Start the day Confirm staffing, priorities, opening checks, and outstanding handovers. | B24: Start the day Confirm staffing, priorities, opening checks, and outstanding handovers. | C24: Start the day Confirm staffing, priorities, opening checks, and outstanding handovers. | D24: Start the day Confirm staffing, priorities, opening checks, and outstanding handovers. | E24: Start the day Confirm staffing, priorities, opening checks, and outstanding handovers. | F24: Run the shift Update tasks, complete checks, record exceptions, and assign actions. | G24: Run the shift Update tasks, complete checks, record exceptions, and assign actions. | H24: Run the shift Update tasks, complete checks, record exceptions, and assign actions. | I24: Run the shift Update tasks, complete checks, record exceptions, and assign actions. | J24: Run the shift Update tasks, complete checks, record exceptions, and assign actions. | K24: Control problems Contain impact, record cause, set corrective action, and monitor closure. | L24: Control problems Contain impact, record cause, set corrective action, and monitor closure. | M24: Control problems Contain impact, record cause, set corrective action, and monitor closure. | N24: Control problems Contain impact, record cause, set corrective action, and monitor closure. | O24: Control problems Contain impact, record cause, set corrective action, and monitor closure. | P24: Review performance Compare KPIs with targets and carry unresolved work into the next shift. | Q24: Review performance Compare KPIs with targets and carry unresolved work into the next shift. | R24: Review performance Compare KPIs with targets and carry unresolved work into the next shift. | S24: Review performance Compare KPIs with targets and carry unresolved work into the next shift. | T24: Review performance Compare KPIs with targets and carry unresolved work into the next shift.
A27: QUICK START | B27: QUICK START | C27: QUICK START | D27: QUICK START | E27: QUICK START | F27: QUICK START | G27: QUICK START | H27: QUICK START | I27: QUICK START | J27: QUICK START | K27: QUICK START | L27: QUICK START | M27: QUICK START | N27: QUICK START | O27: QUICK START | P27: QUICK START | Q27: QUICK START | R27: QUICK START | S27: QUICK START | T27: QUICK START
A29: 1. Set the business name, review date, alert windows, approved lists, and KPI definitions in SETUP. | B29: 1. Set the business name, review date, alert windows, approved lists, and KPI definitions in SETUP. | C29: 1. Set the business name, review date, alert windows, approved lists, and KPI definitions in SETUP. | D29: 1. Set the business name, review date, alert windows, approved lists, and KPI definitions in SETUP. | E29: 1. Set the business name, review date, alert windows, approved lists, and KPI definitions in SETUP. | F29: 1. Set the business name, review date, alert windows, approved lists, and KPI definitions in SETUP. | G29: 1. Set the business name, review date, alert windows, approved lists, and KPI definitions in SETUP. | H29: 1. Set the business name, review date, alert windows, approved lists, and KPI definitions in SETUP. | I29: 1. Set the business name, review date, alert windows, approved lists, and KPI definitions in SETUP. | J29: 1. Set the business name, review date, alert windows, approved lists, and KPI definitions in SETUP. | K29: 1. Set the business name, review date, alert windows, approved lists, and KPI definitions in SETUP. | L29: 1. Set the business name, review date, alert windows, approved lists, and KPI definitions in SETUP. | M29: 1. Set the business name, review date, alert windows, approved lists, and KPI definitions in SETUP. | N29: 1. Set the business name, review date, alert windows, approved lists, and KPI definitions in SETUP. | O29: 1. Set the business name, review date, alert windows, approved lists, and KPI definitions in SETUP. | P29: 1. Set the business name, review date, alert windows, approved lists, and KPI definitions in SETUP. | Q29: 1. Set the business name, review date, alert windows, approved lists, and KPI definitions in SETUP. | R29: 1. Set the business name, review date, alert windows, approved lists, and KPI definitions in SETUP. | S29: 1. Set the business name, review date, alert windows, approved lists, and KPI definitions in SETUP. | T29: 1. Set the business name, review date, alert windows, approved lists, and KPI definitions in SETUP.
A31: 2. Maintain TASKS and CHECKLISTS as the primary daily work records. | B31: 2. Maintain TASKS and CHECKLISTS as the primary daily work records. | C31: 2. Maintain TASKS and CHECKLISTS as the primary daily work records. | D31: 2. Maintain TASKS and CHECKLISTS as the primary daily work records. | E31: 2. Maintain TASKS and CHECKLISTS as the primary daily work records. | F31: 2. Maintain TASKS and CHECKLISTS as the primary daily work records. | G31: 2. Maintain TASKS and CHECKLISTS as the primary daily work records. | H31: 2. Maintain TASKS and CHECKLISTS as the primary daily work records. | I31: 2. Maintain TASKS and CHECKLISTS as the primary daily work records. | J31: 2. Maintain TASKS and CHECKLISTS as the primary daily work records. | K31: 2. Maintain TASKS and CHECKLISTS as the primary daily work records. | L31: 2. Maintain TASKS and CHECKLISTS as the primary daily work records. | M31: 2. Maintain TASKS and CHECKLISTS as the primary daily work records. | N31: 2. Maintain TASKS and CHECKLISTS as the primary daily work records. | O31: 2. Maintain TASKS and CHECKLISTS as the primary daily work records. | P31: 2. Maintain TASKS and CHECKLISTS as the primary daily work records. | Q31: 2. Maintain TASKS and CHECKLISTS as the primary daily work records. | R31: 2. Maintain TASKS and CHECKLISTS as the primary daily work records. | S31: 2. Maintain TASKS and CHECKLISTS as the primary daily work records. | T31: 2. Maintain TASKS and CHECKLISTS as the primary daily work records.
A33: 3. Record every material handover and issue with an owner, due date, and next action. | B33: 3. Record every material handover and issue with an owner, due date, and next action. | C33: 3. Record every material handover and issue with an owner, due date, and next action. | D33: 3. Record every material handover and issue with an owner, due date, and next action. | E33: 3. Record every material handover and issue with an owner, due date, and next action. | F33: 3. Record every material handover and issue with an owner, due date, and next action. | G33: 3. Record every material handover and issue with an owner, due date, and next action. | H33: 3. Record every material handover and issue with an owner, due date, and next action. | I33: 3. Record every material handover and issue with an owner, due date, and next action. | J33: 3. Record every material handover and issue with an owner, due date, and next action. | K33: 3. Record every material handover and issue with an owner, due date, and next action. | L33: 3. Record every material handover and issue with an owner, due date, and next action. | M33: 3. Record every material handover and issue with an owner, due date, and next action. | N33: 3. Record every material handover and issue with an owner, due date, and next action. | O33: 3. Record every material handover and issue with an owner, due date, and next action. | P33: 3. Record every material handover and issue with an owner, due date, and next action. | Q33: 3. Record every material handover and issue with an owner, due date, and next action. | R33: 3. Record every material handover and issue with an owner, due date, and next action. | S33: 3. Record every material handover and issue with an owner, due date, and next action. | T33: 3. Record every material handover and issue with an owner, due date, and next action.
A35: 4. Use DAILY PLAN during the day, then review DASHBOARD and AUDIT before close. | B35: 4. Use DAILY PLAN during the day, then review DASHBOARD and AUDIT before close. | C35: 4. Use DAILY PLAN during the day, then review DASHBOARD and AUDIT before close. | D35: 4. Use DAILY PLAN during the day, then review DASHBOARD and AUDIT before close. | E35: 4. Use DAILY PLAN during the day, then review DASHBOARD and AUDIT before close. | F35: 4. Use DAILY PLAN during the day, then review DASHBOARD and AUDIT before close. | G35: 4. Use DAILY PLAN during the day, then review DASHBOARD and AUDIT before close. | H35: 4. Use DAILY PLAN during the day, then review DASHBOARD and AUDIT before close. | I35: 4. Use DAILY PLAN during the day, then review DASHBOARD and AUDIT before close. | J35: 4. Use DAILY PLAN during the day, then review DASHBOARD and AUDIT before close. | K35: 4. Use DAILY PLAN during the day, then review DASHBOARD and AUDIT before close. | L35: 4. Use DAILY PLAN during the day, then review DASHBOARD and AUDIT before close. | M35: 4. Use DAILY PLAN during the day, then review DASHBOARD and AUDIT before close. | N35: 4. Use DAILY PLAN during the day, then review DASHBOARD and AUDIT before close. | O35: 4. Use DAILY PLAN during the day, then review DASHBOARD and AUDIT before close. | P35: 4. Use DAILY PLAN during the day, then review DASHBOARD and AUDIT before close. | Q35: 4. Use DAILY PLAN during the day, then review DASHBOARD and AUDIT before close. | R35: 4. Use DAILY PLAN during the day, then review DASHBOARD and AUDIT before close. | S35: 4. Use DAILY PLAN during the day, then review DASHBOARD and AUDIT before close. | T35: 4. Use DAILY PLAN during the day, then review DASHBOARD and AUDIT before close.
... A40: The supplied records are fictional sample data. Replace them with your own operations. The workbook supports coordination and review; it does not replace emergency procedures, safety systems, legal records, or specialist advice. | B40: The supplied records are fictional sample data. Replace them with your own operations. The workbook supports coordination and review; it does not replace emergency procedures, safety systems, legal records, or specialist advice. | C40: The supplied records are fictional sample data. Replace them with your own operations. The workbook supports coordination and review; it does not replace emergency procedures, safety systems, legal records, or specialist advice. | D40: The supplied records are fictional sample data. Replace them with your own operations. The workbook supports coordination and review; it does not replace emergency procedures, safety systems, legal records, or specialist advice. | E40: The supplied records are fictional sample data. Replace them with your own operations. The workbook supports coordination and review; it does not replace emergency procedures, safety systems, legal records, or specialist advice. | F40: The supplied records are fictional sample data. Replace them with your own operations. The workbook supports coordination and review; it does not replace emergency procedures, safety systems, legal records, or specialist advice. | G40: The supplied records are fictional sample data. Replace them with your own operations. The workbook supports coordination and review; it does not replace emergency procedures, safety systems, legal records, or specialist advice. | H40: The supplied records are fictional sample data. Replace them with your own operations. The workbook supports coordination and review; it does not replace emergency procedures, safety systems, legal records, or specialist advice. | I40: The supplied records are fictional sample data. Replace them with your own operations. The workbook supports coordination and review; it does not replace emergency procedures, safety systems, legal records, or specialist advice. | J40: The supplied records are fictional sample data. Replace them with your own operations. The workbook supports coordination and review; it does not replace emergency procedures, safety systems, legal records, or specialist advice. | K40: The supplied records are fictional sample data. Replace them with your own operations. The workbook supports coordination and review; it does not replace emergency procedures, safety systems, legal records, or specialist advice. | L40: The supplied records are fictional sample data. Replace them with your own operations. The workbook supports coordination and review; it does not replace emergency procedures, safety systems, legal records, or specialist advice. | M40: The supplied records are fictional sample data. Replace them with your own operations. The workbook supports coordination and review; it does not replace emergency procedures, safety systems, legal records, or specialist advice. | N40: The supplied records are fictional sample data. Replace them with your own operations. The workbook supports coordination and review; it does not replace emergency procedures, safety systems, legal records, or specialist advice. | O40: The supplied records are fictional sample data. Replace them with your own operations. The workbook supports coordination and review; it does not replace emergency procedures, safety systems, legal records, or specialist advice. | P40: The supplied records are fictional sample data. Replace them with your own operations. The workbook supports coordination and review; it does not replace emergency procedures, safety systems, legal records, or specialist advice. | Q40: The supplied records are fictional sample data. Replace them with your own operations. The workbook supports coordination and review; it does not replace emergency procedures, safety systems, legal records, or specialist advice. | R40: The supplied records are fictional sample data. Replace them with your own operations. The workbook supports coordination and review; it does not replace emergency procedures, safety systems, legal records, or specialist advice. | S40: The supplied records are fictional sample data. Replace them with your own operations. The workbook supports coordination and review; it does not replace emergency procedures, safety systems, legal records, or specialist advice. | T40: The supplied records are fictional sample data. Replace them with your own operations. The workbook supports coordination and review; it does not replace emergency procedures, safety systems, legal records, or specialist advice.

Sheet DASHBOARD
A2: Home | B2: Home | C2: Dashboard | D2: Dashboard | E2: Daily plan | F2: Daily plan | G2: Tasks | H2: Tasks | I2: Checklists | J2: Checklists | K2: Handover | L2: Handover | M2: Issues | N2: Issues | O2: KPI log | P2: KPI log | Q2: Setup | R2: Setup | S2: Audit | T2: Audit
A4: MANAGEMENT VIEW | B4: MANAGEMENT VIEW | C4: MANAGEMENT VIEW | D4: MANAGEMENT VIEW | E4: MANAGEMENT VIEW | F4: MANAGEMENT VIEW | G4: MANAGEMENT VIEW | H4: MANAGEMENT VIEW | I4: MANAGEMENT VIEW | J4: MANAGEMENT VIEW | K4: MANAGEMENT VIEW | L4: MANAGEMENT VIEW | M4: MANAGEMENT VIEW | N4: MANAGEMENT VIEW | O4: MANAGEMENT VIEW | P4: MANAGEMENT VIEW | Q4: MANAGEMENT VIEW | R4: MANAGEMENT VIEW | S4: MANAGEMENT VIEW | T4: MANAGEMENT VIEW
A6: Operations Dashboard | B6: Operations Dashboard | C6: Operations Dashboard | D6: Operations Dashboard | E6: Operations Dashboard | F6: Operations Dashboard | G6: Operations Dashboard | H6: Operations Dashboard | I6: Operations Dashboard | J6: Operations Dashboard | K6: Operations Dashboard | L6: Operations Dashboard | M6: Operations Dashboard | N6: Operations Dashboard | O6: Operations Dashboard | P6: Operations Dashboard | Q6: Operations Dashboard | R6: Operations Dashboard | S6: Operations Dashboard | T6: Operations Dashboard
A7: Review workload, exceptions, unresolved actions, checklist completion, and target performance. | B7: Review workload, exceptions, unresolved actions, checklist completion, and target performance. | C7: Review workload, exceptions, unresolved actions, checklist completion, and target performance. | D7: Review workload, exceptions, unresolved actions, checklist completion, and target performance. | E7: Review workload, exceptions, unresolved actions, checklist completion, and target performance. | F7: Review workload, exceptions, unresolved actions, checklist completion, and target performance. | G7: Review workload, exceptions, unresolved actions, checklist completion, and target performance. | H7: Review workload, exceptions, unresolved actions, checklist completion, and target performance. | I7: Review workload, exceptions, unresolved actions, checklist completion, and target performance. | J7: Review workload, exceptions, unresolved actions, checklist completion, and target performance. | K7: Review workload, exceptions, unresolved actions, checklist completion, and target performance. | L7: Review workload, exceptions, unresolved actions, checklist completion, and target performance. | M7: Review workload, exceptions, unresolved actions, checklist completion, and target performance. | N7: Review workload, exceptions, unresolved actions, checklist completion, and target performance. | O7: Review workload, exceptions, unresolved actions, checklist completion, and target performance. | P7: Review workload, exceptions, unresolved actions, checklist completion, and target performance. | Q7: Review workload, exceptions, unresolved actions, checklist completion, and target performance. | R7: Review workload, exceptions, unresolved actions, checklist completion, and target performance. | S7: Review workload, exceptions, unresolved actions, checklist completion, and target performance. | T7: Review workload, exceptions, unresolved actions, checklist completion, and target performance.
A10: Open tasks | B10: Open tasks | C10: Open tasks | E10: Overdue actions | F10: Overdue actions | G10: Overdue actions | I10: Checklist complete | J10: Checklist complete | K10: Checklist complete | M10: High-risk issues | N10: High-risk issues | O10: High-risk issues | Q10: Handover actions | R10: Handover actions | S10: KPI targets met | T10: KPI targets met
A11: =COUNTIF(TASKS!$M$11:$M$110,"Overdue")+COUNTIF(TASKS!$M$11:$M$110,"Due today")+COUNTIF(TASKS!$M$11:$M$110,"Due soon")+COUNTIF(TASKS!$M$11:$M$110,"On track") -> 11 | E11: =COUNTIF(TASKS!$M$11:$M$110,"Overdue")+COUNTIF(HANDOVER!$M$11:$M$100,"Overdue")+COUNTIF(ISSUES!$P$11:$P$100,"Overdue") -> 3 | I11: =IF(COUNTIFS(CHECKLISTS!$B$11:$B$130,SETUP!$D$11,CHECKLISTS!$G$11:$G$130,"Yes")=0,"",COUNTIFS(CHECKLISTS!$B$11:$B$130,SETUP!$D$11,CHECKLISTS!$G$11:$G$130,"Yes",CHECKLISTS!$H$11:$H$130,"Complete")/COUNTIFS(CHECKLISTS!$B$11:$B$130,SETUP!$D$11,CHECKLISTS!$G$11:$G$130,"Yes")) -> 0.625 | M11: =COUNTIFS(ISSUES!$E$11:$E$100,"Critical",ISSUES!$L$11:$L$100,"<>Closed")+COUNTIFS(ISSUES!$E$11:$E$100,"High",ISSUES!$L$11:$L$100,"<>Closed") -> 2 | Q11: =COUNTIF(HANDOVER!$M$11:$M$100,"Overdue")+COUNTIF(HANDOVER!$M$11:$M$100,"Due today")+COUNTIF(HANDOVER!$M$11:$M$100,"Due soon")+COUNTIF(HANDOVER!$M$11:$M$100,"On track") -> 4 | S11: =IF(COUNTIFS('KPI LOG'!$A$11:$A$150,SETUP!$D$14)=0,"",COUNTIFS('KPI LOG'!$A$11:$A$150,SETUP!$D$14,'KPI LOG'!$K$11:$K$150,"Met")/COUNTIFS('KPI LOG'!$A$11:$A$150,SETUP!$D$14)) -> 0.2
A16: PRIORITY TASKS | B16: PRIORITY TASKS | C16: PRIORITY TASKS | D16: PRIORITY TASKS | E16: PRIORITY TASKS | F16: PRIORITY TASKS | G16: PRIORITY TASKS | I16: OPEN ISSUES | J16: OPEN ISSUES | K16: OPEN ISSUES | L16: OPEN ISSUES | M16: OPEN ISSUES | N16: OPEN ISSUES | P16: CHECKLIST BY SHIFT | Q16: CHECKLIST BY SHIFT | R16: CHECKLIST BY SHIFT | S16: CHECKLIST BY SHIFT | T16: CHECKLIST BY SHIFT
A17: Task | B17: Department | C17: Owner | D17: Priority | E17: Due | F17: Status | G17: Reason | I17: Issue | J17: Department | K17: Severity | L17: Owner | M17: Due | N17: Action status | P17: Shift | Q17: Required | R17: Complete | S17: Exceptions
A18: =IF(SMALL(TASKS!$O$11:$O$110,1)>=99999,"",IFERROR(INDEX(TASKS!$C$11:$C$110,MATCH(SMALL(TASKS!$O$11:$O$110,1),TASKS!$O$11:$O$110,0)),"")) -> Resolve late supplier delivery | B18: =IF(SMALL(TASKS!$O$11:$O$110,1)>=99999,"",IFERROR(INDEX(TASKS!$B$11:$B$110,MATCH(SMALL(TASKS!$O$11:$O$110,1),TASKS!$O$11:$O$110,0)),"")) -> Operations | C18: =IF(SMALL(TASKS!$O$11:$O$110,1)>=99999,"",IFERROR(INDEX(TASKS!$E$11:$E$110,MATCH(SMALL(TASKS!$O$11:$O$110,1),TASKS!$O$11:$O$110,0)),"")) -> Omar Saleh | D18: =IF(SMALL(TASKS!$O$11:$O$110,1)>=99999,"",IFERROR(INDEX(TASKS!$F$11:$F$110,MATCH(SMALL(TASKS!$O$11:$O$110,1),TASKS!$O$11:$O$110,0)),"")) -> High | E18: =IF(SMALL(TASKS!$O$11:$O$110,1)>=99999,"",IFERROR(INDEX(TASKS!$H$11:$H$110,MATCH(SMALL(TASKS!$O$11:$O$110,1),TASKS!$O$11:$O$110,0)),"")) -> 46322 | F18: =IF(SMALL(TASKS!$O$11:$O$110,1)>=99999,"",IFERROR(INDEX(TASKS!$I$11:$I$110,MATCH(SMALL(TASKS!$O$11:$O$110,1),TASKS!$O$11:$O$110,0)),"")) -> Waiting | G18: =IF(SMALL(TASKS!$O$11:$O$110,1)>=99999,"",IFERROR(INDEX(TASKS!$M$11:$M$110,MATCH(SMALL(TASKS!$O$11:$O$110,1),TASKS!$O$11:$O$110,0)),"")) -> Overdue | I18: =IF(SMALL(ISSUES!$R$11:$R$100,1)>=99999,"",IFERROR(INDEX(ISSUES!$D$11:$D$100,MATCH(SMALL(ISSUES!$R$11:$R$100,1),ISSUES!$R$11:$R$100,0)),"")) -> Cooling unit intermittent fault | J18: =IF(SMALL(ISSUES!$R$11:$R$100,1)>=99999,"",IFERROR(INDEX(ISSUES!$C$11:$C$100,MATCH(SMALL(ISSUES!$R$11:$R$100,1),ISSUES!$R$11:$R$100,0)),"")) -> Facilities | K18: =IF(SMALL(ISSUES!$R$11:$R$100,1)>=99999,"",IFERROR(INDEX(ISSUES!$E$11:$E$100,MATCH(SMALL(ISSUES!$R$11:$R$100,1),ISSUES!$R$11:$R$100,0)),"")) -> High | L18: =IF(SMALL(ISSUES!$R$11:$R$100,1)>=99999,"",IFERROR(INDEX(ISSUES!$J$11:$J$100,MATCH(SMALL(ISSUES!$R$11:$R$100,1),ISSUES!$R$11:$R$100,0)),"")) -> Omar Saleh | M18: =IF(SMALL(ISSUES!$R$11:$R$100,1)>=99999,"",IFERROR(INDEX(ISSUES!$K$11:$K$100,MATCH(SMALL(ISSUES!$R$11:$R$100,1),ISSUES!$R$11:$R$100,0)),"")) -> 46321 | N18: =IF(SMALL(ISSUES!$R$11:$R$100,1)>=99999,"",IFERROR(INDEX(ISSUES!$P$11:$P$100,MATCH(SMALL(ISSUES!$R$11:$R$100,1),ISSUES!$R$11:$R$100,0)),"")) -> Overdue | P18: Opening | Q18: =COUNTIFS(CHECKLISTS!$B$11:$B$130,SETUP!$D$11,CHECKLISTS!$C$11:$C$130,P18,CHECKLISTS!$G$11:$G$130,"Yes") -> 4 | R18: =COUNTIFS(CHECKLISTS!$B$11:$B$130,SETUP!$D$11,CHECKLISTS!$C$11:$C$130,P18,CHECKLISTS!$H$11:$H$130,"Complete") -> 3 | S18: =COUNTIFS(CHECKLISTS!$B$11:$B$130,SETUP!$D$11,CHECKLISTS!$C$11:$C$130,P18,CHECKLISTS!$H$11:$H$130,"Exception") -> 1
A19: =IF(SMALL(TASKS!$O$11:$O$110,2)>=99999,"",IFERROR(INDEX(TASKS!$C$11:$C$110,MATCH(SMALL(TASKS!$O$11:$O$110,2),TASKS!$O$11:$O$110,0)),"")) -> Close air-conditioning maintenance action | B19: =IF(SMALL(TASKS!$O$11:$O$110,2)>=99999,"",IFERROR(INDEX(TASKS!$B$11:$B$110,MATCH(SMALL(TASKS!$O$11:$O$110,2),TASKS!$O$11:$O$110,0)),"")) -> Facilities | C19: =IF(SMALL(TASKS!$O$11:$O$110,2)>=99999,"",IFERROR(INDEX(TASKS!$E$11:$E$110,MATCH(SMALL(TASKS!$O$11:$O$110,2),TASKS!$O$11:$O$110,0)),"")) -> Omar Saleh | D19: =IF(SMALL(TASKS!$O$11:$O$110,2)>=99999,"",IFERROR(INDEX(TASKS!$F$11:$F$110,MATCH(SMALL(TASKS!$O$11:$O$110,2),TASKS!$O$11:$O$110,0)),"")) -> High | E19: =IF(SMALL(TASKS!$O$11:$O$110,2)>=99999,"",IFERROR(INDEX(TASKS!$H$11:$H$110,MATCH(SMALL(TASKS!$O$11:$O$110,2),TASKS!$O$11:$O$110,0)),"")) -> 46321 | F19: =IF(SMALL(TASKS!$O$11:$O$110,2)>=99999,"",IFERROR(INDEX(TASKS!$I$11:$I$110,MATCH(SMALL(TASKS!$O$11:$O$110,2),TASKS!$O$11:$O$110,0)),"")) -> In progress | G19: =IF(SMALL(TASKS!$O$11:$O$110,2)>=99999,"",IFERROR(INDEX(TASKS!$M$11:$M$110,MATCH(SMALL(TASKS!$O$11:$O$110,2),TASKS!$O$11:$O$110,0)),"")) -> Overdue | I19: =IF(SMALL(ISSUES!$R$11:$R$100,2)>=99999,"",IFERROR(INDEX(ISSUES!$D$11:$D$100,MATCH(SMALL(ISSUES!$R$11:$R$100,2),ISSUES!$R$11:$R$100,0)),"")) -> Replacement stock delivery delayed | J19: =IF(SMALL(ISSUES!$R$11:$R$100,2)>=99999,"",IFERROR(INDEX(ISSUES!$C$11:$C$100,MATCH(SMALL(ISSUES!$R$11:$R$100,2),ISSUES!$R$11:$R$100,0)),"")) -> Operations | K19: =IF(SMALL(ISSUES!$R$11:$R$100,2)>=99999,"",IFERROR(INDEX(ISSUES!$E$11:$E$100,MATCH(SMALL(ISSUES!$R$11:$R$100,2),ISSUES!$R$11:$R$100,0)),"")) -> High | L19: =IF(SMALL(ISSUES!$R$11:$R$100,2)>=99999,"",IFERROR(INDEX(ISSUES!$J$11:$J$100,MATCH(SMALL(ISSUES!$R$11:$R$100,2),ISSUES!$R$11:$R$100,0)),"")) -> Omar Saleh | M19: =IF(SMALL(ISSUES!$R$11:$R$100,2)>=99999,"",IFERROR(INDEX(ISSUES!$K$11:$K$100,MATCH(SMALL(ISSUES!$R$11:$R$100,2),ISSUES!$R$11:$R$100,0)),"")) -> 46323 | N19: =IF(SMALL(ISSUES!$R$11:$R$100,2)>=99999,"",IFERROR(INDEX(ISSUES!$P$11:$P$100,MATCH(SMALL(ISSUES!$R$11:$R$100,2),ISSUES!$R$11:$R$100,0)),"")) -> Due today | P19: Midday | Q19: =COUNTIFS(CHECKLISTS!$B$11:$B$130,SETUP!$D$11,CHECKLISTS!$C$11:$C$130,P19,CHECKLISTS!$G$11:$G$130,"Yes") -> 2 | R19: =COUNTIFS(CHECKLISTS!$B$11:$B$130,SETUP!$D$11,CHECKLISTS!$C$11:$C$130,P19,CHECKLISTS!$H$11:$H$130,"Complete") -> 2 | S19: =COUNTIFS(CHECKLISTS!$B$11:$B$130,SETUP!$D$11,CHECKLISTS!$C$11:$C$130,P19,CHECKLISTS!$H$11:$H$130,"Exception") -> 0
A20: =IF(SMALL(TASKS!$O$11:$O$110,3)>=99999,"",IFERROR(INDEX(TASKS!$C$11:$C$110,MATCH(SMALL(TASKS!$O$11:$O$110,3),TASKS!$O$11:$O$110,0)),"")) -> Confirm staff and shift coverage | B20: =IF(SMALL(TASKS!$O$11:$O$110,3)>=99999,"",IFERROR(INDEX(TASKS!$B$11:$B$110,MATCH(SMALL(TASKS!$O$11:$O$110,3),TASKS!$O$11:$O$110,0)),"")) -> Operations | C20: =IF(SMALL(TASKS!$O$11:$O$110,3)>=99999,"",IFERROR(INDEX(TASKS!$E$11:$E$110,MATCH(SMALL(TASKS!$O$11:$O$110,3),TASKS!$O$11:$O$110,0)),"")) -> Maya Hassan | D20: =IF(SMALL(TASKS!$O$11:$O$110,3)>=99999,"",IFERROR(INDEX(TASKS!$F$11:$F$110,MATCH(SMALL(TASKS!$O$11:$O$110,3),TASKS!$O$11:$O$110,0)),"")) -> Critical | E20: =IF(SMALL(TASKS!$O$11:$O$110,3)>=99999,"",IFERROR(INDEX(TASKS!$H$11:$H$110,MATCH(SMALL(TASKS!$O$11:$O$110,3),TASKS!$O$11:$O$110,0)),"")) -> 46323 | F20: =IF(SMALL(TASKS!$O$11:$O$110,3)>=99999,"",IFERROR(INDEX(TASKS!$I$11:$I$110,MATCH(SMALL(TASKS!$O$11:$O$110,3),TASKS!$O$11:$O$110,0)),"")) -> In progress | G20: =IF(SMALL(TASKS!$O$11:$O$110,3)>=99999,"",IFERROR(INDEX(TASKS!$M$11:$M$110,MATCH(SMALL(TASKS!$O$11:$O$110,3),TASKS!$O$11:$O$110,0)),"")) -> Due today | I20: =IF(SMALL(ISSUES!$R$11:$R$100,3)>=99999,"",IFERROR(INDEX(ISSUES!$D$11:$D$100,MATCH(SMALL(ISSUES!$R$11:$R$100,3),ISSUES!$R$11:$R$100,0)),"")) -> Escalation rota has coverage gap | J20: =IF(SMALL(ISSUES!$R$11:$R$100,3)>=99999,"",IFERROR(INDEX(ISSUES!$C$11:$C$100,MATCH(SMALL(ISSUES!$R$11:$R$100,3),ISSUES!$R$11:$R$100,0)),"")) -> Customer Service | K20: =IF(SMALL(ISSUES!$R$11:$R$100,3)>=99999,"",IFERROR(INDEX(ISSUES!$E$11:$E$100,MATCH(SMALL(ISSUES!$R$11:$R$100,3),ISSUES!$R$11:$R$100,0)),"")) -> Medium | L20: =IF(SMALL(ISSUES!$R$11:$R$100,3)>=99999,"",IFERROR(INDEX(ISSUES!$J$11:$J$100,MATCH(SMALL(ISSUES!$R$11:$R$100,3),ISSUES!$R$11:$R$100,0)),"")) -> Noor Al Mansoori | M20: =IF(SMALL(ISSUES!$R$11:$R$100,3)>=99999,"",IFERROR(INDEX(ISSUES!$K$11:$K$100,MATCH(SMALL(ISSUES!$R$11:$R$100,3),ISSUES!$R$11:$R$100,0)),"")) -> 46323 | N20: =IF(SMALL(ISSUES!$R$11:$R$100,3)>=99999,"",IFERROR(INDEX(ISSUES!$P$11:$P$100,MATCH(SMALL(ISSUES!$R$11:$R$100,3),ISSUES!$R$11:$R$100,0)),"")) -> Due today | P20: Closing | Q20: =COUNTIFS(CHECKLISTS!$B$11:$B$130,SETUP!$D$11,CHECKLISTS!$C$11:$C$130,P20,CHECKLISTS!$G$11:$G$130,"Yes") -> 2 | R20: =COUNTIFS(CHECKLISTS!$B$11:$B$130,SETUP!$D$11,CHECKLISTS!$C$11:$C$130,P20,CHECKLISTS!$H$11:$H$130,"Complete") -> 0 | S20: =COUNTIFS(CHECKLISTS!$B$11:$B$130,SETUP!$D$11,CHECKLISTS!$C$11:$C$130,P20,CHECKLISTS!$H$11:$H$130,"Exception") -> 0
A21: =IF(SMALL(TASKS!$O$11:$O$110,4)>=99999,"",IFERROR(INDEX(TASKS!$C$11:$C$110,MATCH(SMALL(TASKS!$O$11:$O$110,4),TASKS!$O$11:$O$110,0)),"")) -> Dispatch priority customer orders | B21: =IF(SMALL(TASKS!$O$11:$O$110,4)>=99999,"",IFERROR(INDEX(TASKS!$B$11:$B$110,MATCH(SMALL(TASKS!$O$11:$O$110,4),TASKS!$O$11:$O$110,0)),"")) -> Sales | C21: =IF(SMALL(TASKS!$O$11:$O$110,4)>=99999,"",IFERROR(INDEX(TASKS!$E$11:$E$110,MATCH(SMALL(TASKS!$O$11:$O$110,4),TASKS!$O$11:$O$110,0)),"")) -> Daniel Ruiz | D21: =IF(SMALL(TASKS!$O$11:$O$110,4)>=99999,"",IFERROR(INDEX(TASKS!$F$11:$F$110,MATCH(SMALL(TASKS!$O$11:$O$110,4),TASKS!$O$11:$O$110,0)),"")) -> High | E21: =IF(SMALL(TASKS!$O$11:$O$110,4)>=99999,"",IFERROR(INDEX(TASKS!$H$11:$H$110,MATCH(SMALL(TASKS!$O$11:$O$110,4),TASKS!$O$11:$O$110,0)),"")) -> 46323 | F21: =IF(SMALL(TASKS!$O$11:$O$110,4)>=99999,"",IFERROR(INDEX(TASKS!$I$11:$I$110,MATCH(SMALL(TASKS!$O$11:$O$110,4),TASKS!$O$11:$O$110,0)),"")) -> In progress | G21: =IF(SMALL(TASKS!$O$11:$O$110,4)>=99999,"",IFERROR(INDEX(TASKS!$M$11:$M$110,MATCH(SMALL(TASKS!$O$11:$O$110,4),TASKS!$O$11:$O$110,0)),"")) -> Due today | I21: =IF(SMALL(ISSUES!$R$11:$R$100,4)>=99999,"",IFERROR(INDEX(ISSUES!$D$11:$D$100,MATCH(SMALL(ISSUES!$R$11:$R$100,4),ISSUES!$R$11:$R$100,0)),"")) -> Three stock items need recount | J21: =IF(SMALL(ISSUES!$R$11:$R$100,4)>=99999,"",IFERROR(INDEX(ISSUES!$C$11:$C$100,MATCH(SMALL(ISSUES!$R$11:$R$100,4),ISSUES!$R$11:$R$100,0)),"")) -> Operations | K21: =IF(SMALL(ISSUES!$R$11:$R$100,4)>=99999,"",IFERROR(INDEX(ISSUES!$E$11:$E$100,MATCH(SMALL(ISSUES!$R$11:$R$100,4),ISSUES!$R$11:$R$100,0)),"")) -> Medium | L21: =IF(SMALL(ISSUES!$R$11:$R$100,4)>=99999,"",IFERROR(INDEX(ISSUES!$J$11:$J$100,MATCH(SMALL(ISSUES!$R$11:$R$100,4),ISSUES!$R$11:$R$100,0)),"")) -> Lucas Martin | M21: =IF(SMALL(ISSUES!$R$11:$R$100,4)>=99999,"",IFERROR(INDEX(ISSUES!$K$11:$K$100,MATCH(SMALL(ISSUES!$R$11:$R$100,4),ISSUES!$R$11:$R$100,0)),"")) -> 46323 | N21: =IF(SMALL(ISSUES!$R$11:$R$100,4)>=99999,"",IFERROR(INDEX(ISSUES!$P$11:$P$100,MATCH(SMALL(ISSUES!$R$11:$R$100,4),ISSUES!$R$11:$R$100,0)),"")) -> Due today
A22: =IF(SMALL(TASKS!$O$11:$O$110,5)>=99999,"",IFERROR(INDEX(TASKS!$C$11:$C$110,MATCH(SMALL(TASKS!$O$11:$O$110,5),TASKS!$O$11:$O$110,0)),"")) -> Complete end-of-day cash review | B22: =IF(SMALL(TASKS!$O$11:$O$110,5)>=99999,"",IFERROR(INDEX(TASKS!$B$11:$B$110,MATCH(SMALL(TASKS!$O$11:$O$110,5),TASKS!$O$11:$O$110,0)),"")) -> Finance | C22: =IF(SMALL(TASKS!$O$11:$O$110,5)>=99999,"",IFERROR(INDEX(TASKS!$E$11:$E$110,MATCH(SMALL(TASKS!$O$11:$O$110,5),TASKS!$O$11:$O$110,0)),"")) -> Sofia Kim | D22: =IF(SMALL(TASKS!$O$11:$O$110,5)>=99999,"",IFERROR(INDEX(TASKS!$F$11:$F$110,MATCH(SMALL(TASKS!$O$11:$O$110,5),TASKS!$O$11:$O$110,0)),"")) -> High | E22: =IF(SMALL(TASKS!$O$11:$O$110,5)>=99999,"",IFERROR(INDEX(TASKS!$H$11:$H$110,MATCH(SMALL(TASKS!$O$11:$O$110,5),TASKS!$O$11:$O$110,0)),"")) -> 46323 | F22: =IF(SMALL(TASKS!$O$11:$O$110,5)>=99999,"",IFERROR(INDEX(TASKS!$I$11:$I$110,MATCH(SMALL(TASKS!$O$11:$O$110,5),TASKS!$O$11:$O$110,0)),"")) -> Not started | G22: =IF(SMALL(TASKS!$O$11:$O$110,5)>=99999,"",IFERROR(INDEX(TASKS!$M$11:$M$110,MATCH(SMALL(TASKS!$O$11:$O$110,5),TASKS!$O$11:$O$110,0)),"")) -> Due today | I22: =IF(SMALL(ISSUES!$R$11:$R$100,5)>=99999,"",IFERROR(INDEX(ISSUES!$D$11:$D$100,MATCH(SMALL(ISSUES!$R$11:$R$100,5),ISSUES!$R$11:$R$100,0)),"")) -> Supplier invoice reference mismatch | J22: =IF(SMALL(ISSUES!$R$11:$R$100,5)>=99999,"",IFERROR(INDEX(ISSUES!$C$11:$C$100,MATCH(SMALL(ISSUES!$R$11:$R$100,5),ISSUES!$R$11:$R$100,0)),"")) -> Finance | K22: =IF(SMALL(ISSUES!$R$11:$R$100,5)>=99999,"",IFERROR(INDEX(ISSUES!$E$11:$E$100,MATCH(SMALL(ISSUES!$R$11:$R$100,5),ISSUES!$R$11:$R$100,0)),"")) -> Low | L22: =IF(SMALL(ISSUES!$R$11:$R$100,5)>=99999,"",IFERROR(INDEX(ISSUES!$J$11:$J$100,MATCH(SMALL(ISSUES!$R$11:$R$100,5),ISSUES!$R$11:$R$100,0)),"")) -> Sofia Kim | M22: =IF(SMALL(ISSUES!$R$11:$R$100,5)>=99999,"",IFERROR(INDEX(ISSUES!$K$11:$K$100,MATCH(SMALL(ISSUES!$R$11:$R$100,5),ISSUES!$R$11:$R$100,0)),"")) -> 46326 | N22: =IF(SMALL(ISSUES!$R$11:$R$100,5)>=99999,"",IFERROR(INDEX(ISSUES!$P$11:$P$100,MATCH(SMALL(ISSUES!$R$11:$R$100,5),ISSUES!$R$11:$R$100,0)),"")) -> Due soon
A23: =IF(SMALL(TASKS!$O$11:$O$110,6)>=99999,"",IFERROR(INDEX(TASKS!$C$11:$C$110,MATCH(SMALL(TASKS!$O$11:$O$110,6),TASKS!$O$11:$O$110,0)),"")) -> Publish revised escalation rota | B23: =IF(SMALL(TASKS!$O$11:$O$110,6)>=99999,"",IFERROR(INDEX(TASKS!$B$11:$B$110,MATCH(SMALL(TASKS!$O$11:$O$110,6),TASKS!$O$11:$O$110,0)),"")) -> Customer Service | C23: =IF(SMALL(TASKS!$O$11:$O$110,6)>=99999,"",IFERROR(INDEX(TASKS!$E$11:$E$110,MATCH(SMALL(TASKS!$O$11:$O$110,6),TASKS!$O$11:$O$110,0)),"")) -> Noor Al Mansoori | D23: =IF(SMALL(TASKS!$O$11:$O$110,6)>=99999,"",IFERROR(INDEX(TASKS!$F$11:$F$110,MATCH(SMALL(TASKS!$O$11:$O$110,6),TASKS!$O$11:$O$110,0)),"")) -> High | E23: =IF(SMALL(TASKS!$O$11:$O$110,6)>=99999,"",IFERROR(INDEX(TASKS!$H$11:$H$110,MATCH(SMALL(TASKS!$O$11:$O$110,6),TASKS!$O$11:$O$110,0)),"")) -> 46323 | F23: =IF(SMALL(TASKS!$O$11:$O$110,6)>=99999,"",IFERROR(INDEX(TASKS!$I$11:$I$110,MATCH(SMALL(TASKS!$O$11:$O$110,6),TASKS!$O$11:$O$110,0)),"")) -> Waiting | G23: =IF(SMALL(TASKS!$O$11:$O$110,6)>=99999,"",IFERROR(INDEX(TASKS!$M$11:$M$110,MATCH(SMALL(TASKS!$O$11:$O$110,6),TASKS!$O$11:$O$110,0)),"")) -> Due today | I23: =IF(SMALL(ISSUES!$R$11:$R$100,6)>=99999,"",IFERROR(INDEX(ISSUES!$D$11:$D$100,MATCH(SMALL(ISSUES!$R$11:$R$100,6),ISSUES!$R$11:$R$100,0)),"")) | J23: =IF(SMALL(ISSUES!$R$11:$R$100,6)>=99999,"",IFERROR(INDEX(ISSUES!$C$11:$C$100,MATCH(SMALL(ISSUES!$R$11:$R$100,6),ISSUES!$R$11:$R$100,0)),"")) | K23: =IF(SMALL(ISSUES!$R$11:$R$100,6)>=99999,"",IFERROR(INDEX(ISSUES!$E$11:$E$100,MATCH(SMALL(ISSUES!$R$11:$R$100,6),ISSUES!$R$11:$R$100,0)),"")) | L23: =IF(SMALL(ISSUES!$R$11:$R$100,6)>=99999,"",IFERROR(INDEX(ISSUES!$J$11:$J$100,MATCH(SMALL(ISSUES!$R$11:$R$100,6),ISSUES!$R$11:$R$100,0)),"")) | M23: =IF(SMALL(ISSUES!$R$11:$R$100,6)>=99999,"",IFERROR(INDEX(ISSUES!$K$11:$K$100,MATCH(SMALL(ISSUES!$R$11:$R$100,6),ISSUES!$R$11:$R$100,0)),"")) | N23: =IF(SMALL(ISSUES!$R$11:$R$100,6)>=99999,"",IFERROR(INDEX(ISSUES!$P$11:$P$100,MATCH(SMALL(ISSUES!$R$11:$R$100,6),ISSUES!$R$11:$R$100,0)),""))
A24: =IF(SMALL(TASKS!$O$11:$O$110,7)>=99999,"",IFERROR(INDEX(TASKS!$C$11:$C$110,MATCH(SMALL(TASKS!$O$11:$O$110,7),TASKS!$O$11:$O$110,0)),"")) -> Test emergency lighting | B24: =IF(SMALL(TASKS!$O$11:$O$110,7)>=99999,"",IFERROR(INDEX(TASKS!$B$11:$B$110,MATCH(SMALL(TASKS!$O$11:$O$110,7),TASKS!$O$11:$O$110,0)),"")) -> Facilities | C24: =IF(SMALL(TASKS!$O$11:$O$110,7)>=99999,"",IFERROR(INDEX(TASKS!$E$11:$E$110,MATCH(SMALL(TASKS!$O$11:$O$110,7),TASKS!$O$11:$O$110,0)),"")) -> Lucas Martin | D24: =IF(SMALL(TASKS!$O$11:$O$110,7)>=99999,"",IFERROR(INDEX(TASKS!$F$11:$F$110,MATCH(SMALL(TASKS!$O$11:$O$110,7),TASKS!$O$11:$O$110,0)),"")) -> High | E24: =IF(SMALL(TASKS!$O$11:$O$110,7)>=99999,"",IFERROR(INDEX(TASKS!$H$11:$H$110,MATCH(SMALL(TASKS!$O$11:$O$110,7),TASKS!$O$11:$O$110,0)),"")) -> 46325 | F24: =IF(SMALL(TASKS!$O$11:$O$110,7)>=99999,"",IFERROR(INDEX(TASKS!$I$11:$I$110,MATCH(SMALL(TASKS!$O$11:$O$110,7),TASKS!$O$11:$O$110,0)),"")) -> Not started | G24: =IF(SMALL(TASKS!$O$11:$O$110,7)>=99999,"",IFERROR(INDEX(TASKS!$M$11:$M$110,MATCH(SMALL(TASKS!$O$11:$O$110,7),TASKS!$O$11:$O$110,0)),"")) -> Due soon | I24: =IF(SMALL(ISSUES!$R$11:$R$100,7)>=99999,"",IFERROR(INDEX(ISSUES!$D$11:$D$100,MATCH(SMALL(ISSUES!$R$11:$R$100,7),ISSUES!$R$11:$R$100,0)),"")) | J24: =IF(SMALL(ISSUES!$R$11:$R$100,7)>=99999,"",IFERROR(INDEX(ISSUES!$C$11:$C$100,MATCH(SMALL(ISSUES!$R$11:$R$100,7),ISSUES!$R$11:$R$100,0)),"")) | K24: =IF(SMALL(ISSUES!$R$11:$R$100,7)>=99999,"",IFERROR(INDEX(ISSUES!$E$11:$E$100,MATCH(SMALL(ISSUES!$R$11:$R$100,7),ISSUES!$R$11:$R$100,0)),"")) | L24: =IF(SMALL(ISSUES!$R$11:$R$100,7)>=99999,"",IFERROR(INDEX(ISSUES!$J$11:$J$100,MATCH(SMALL(ISSUES!$R$11:$R$100,7),ISSUES!$R$11:$R$100,0)),"")) | M24: =IF(SMALL(ISSUES!$R$11:$R$100,7)>=99999,"",IFERROR(INDEX(ISSUES!$K$11:$K$100,MATCH(SMALL(ISSUES!$R$11:$R$100,7),ISSUES!$R$11:$R$100,0)),"")) | N24: =IF(SMALL(ISSUES!$R$11:$R$100,7)>=99999,"",IFERROR(INDEX(ISSUES!$P$11:$P$100,MATCH(SMALL(ISSUES!$R$11:$R$100,7),ISSUES!$R$11:$R$100,0)),""))
A27: TASK STATUS | B27: TASK STATUS | C27: TASK STATUS | D27: TASK STATUS | E27: TASK STATUS | F27: TASK STATUS | K27: ISSUE SEVERITY | L27: ISSUE SEVERITY | M27: ISSUE SEVERITY | N27: ISSUE SEVERITY
A28: Status | B28: Tasks | K28: Severity | L28: Open issues
A29: Not started | B29: =COUNTIF(TASKS!$I$11:$I$110,A29) -> 5 | K29: Critical | L29: =COUNTIFS(ISSUES!$E$11:$E$100,K29,ISSUES!$L$11:$L$100,"<>Closed") -> 0
A30: In progress | B30: =COUNTIF(TASKS!$I$11:$I$110,A30) -> 4 | K30: High | L30: =COUNTIFS(ISSUES!$E$11:$E$100,K30,ISSUES!$L$11:$L$100,"<>Closed") -> 2
A31: Waiting | B31: =COUNTIF(TASKS!$I$11:$I$110,A31) -> 2 | K31: Medium | L31: =COUNTIFS(ISSUES!$E$11:$E$100,K31,ISSUES!$L$11:$L$100,"<>Closed") -> 2
A32: Completed | B32: =COUNTIF(TASKS!$I$11:$I$110,A32) -> 3 | K32: Low | L32: =COUNTIFS(ISSUES!$E$11:$E$100,K32,ISSUES!$L$11:$L$100,"<>Closed") -> 1
A33: Cancelled | B33: =COUNTIF(TASKS!$I$11:$I$110,A33) -> 0
A46: SIX-WEEK KPI TARGET ATTAINMENT | B46: SIX-WEEK KPI TARGET ATTAINMENT | C46: SIX-WEEK KPI TARGET ATTAINMENT | D46: SIX-WEEK KPI TARGET ATTAINMENT | E46: SIX-WEEK KPI TARGET ATTAINMENT | F46: SIX-WEEK KPI TARGET ATTAINMENT | G46: SIX-WEEK KPI TARGET ATTAINMENT | H46: SIX-WEEK KPI TARGET ATTAINMENT | I46: SIX-WEEK KPI TARGET ATTAINMENT | J46: SIX-WEEK KPI TARGET ATTAINMENT | K46: SIX-WEEK KPI TARGET ATTAINMENT | L46: SIX-WEEK KPI TARGET ATTAINMENT | M46: SIX-WEEK KPI TARGET ATTAINMENT | N46: SIX-WEEK KPI TARGET ATTAINMENT | O46: SIX-WEEK KPI TARGET ATTAINMENT | P46: SIX-WEEK KPI TARGET ATTAINMENT | Q46: SIX-WEEK KPI TARGET ATTAINMENT | R46: SIX-WEEK KPI TARGET ATTAINMENT | S46: SIX-WEEK KPI TARGET ATTAINMENT | T46: SIX-WEEK KPI TARGET ATTAINMENT
A47: Week | B47: Targets met | C47: Attainment | AA47: Week | AB47: Attainment
A48: 46287 | B48: =COUNTIFS('KPI LOG'!$A$11:$A$150,A48,'KPI LOG'!$K$11:$K$150,"Met") -> 0 | C48: =IF(COUNTIFS('KPI LOG'!$A$11:$A$150,A48)=0,"",B48/COUNTIFS('KPI LOG'!$A$11:$A$150,A48)) -> 0 | AA48: Sep 22 | AB48: =C48 -> 0
A49: 46294 | B49: =COUNTIFS('KPI LOG'!$A$11:$A$150,A49,'KPI LOG'!$K$11:$K$150,"Met") -> 1 | C49: =IF(COUNTIFS('KPI LOG'!$A$11:$A$150,A49)=0,"",B49/COUNTIFS('KPI LOG'!$A$11:$A$150,A49)) -> 0.2 | AA49: Sep 29 | AB49: =C49 -> 0.2
A50: 46301 | B50: =COUNTIFS('KPI LOG'!$A$11:$A$150,A50,'KPI LOG'!$K$11:$K$150,"Met") -> 4 | C50: =IF(COUNTIFS('KPI LOG'!$A$11:$A$150,A50)=0,"",B50/COUNTIFS('KPI LOG'!$A$11:$A$150,A50)) -> 0.8 | AA50: Oct 6 | AB50: =C50 -> 0.8
A51: 46308 | B51: =COUNTIFS('KPI LOG'!$A$11:$A$150,A51,'KPI LOG'!$K$11:$K$150,"Met") -> 5 | C51: =IF(COUNTIFS('KPI LOG'!$A$11:$A$150,A51)=0,"",B51/COUNTIFS('KPI LOG'!$A$11:$A$150,A51)) -> 1 | AA51: Oct 13 | AB51: =C51 -> 1
A52: 46315 | B52: =COUNTIFS('KPI LOG'!$A$11:$A$150,A52,'KPI LOG'!$K$11:$K$150,"Met") -> 4 | C52: =IF(COUNTIFS('KPI LOG'!$A$11:$A$150,A52)=0,"",B52/COUNTIFS('KPI LOG'!$A$11:$A$150,A52)) -> 0.8 | AA52: Oct 20 | AB52: =C52 -> 0.8
A53: 46322 | B53: =COUNTIFS('KPI LOG'!$A$11:$A$150,A53,'KPI LOG'!$K$11:$K$150,"Met") -> 1 | C53: =IF(COUNTIFS('KPI LOG'!$A$11:$A$150,A53)=0,"",B53/COUNTIFS('KPI LOG'!$A$11:$A$150,A53)) -> 0.2 | AA53: Oct 27 | AB53: =C53 -> 0.2

Sheet DAILY PLAN
A2: Home | B2: Home | C2: Dashboard | D2: Dashboard | E2: Daily plan | F2: Daily plan | G2: Tasks | H2: Tasks | I2: Checklists | J2: Checklists | K2: Handover | L2: Handover | M2: Issues | N2: Issues | O2: KPI log | P2: KPI log | Q2: Setup | R2: Setup | S2: Audit | T2: Audit
A4: TODAY'S PRIORITIES | B4: TODAY'S PRIORITIES | C4: TODAY'S PRIORITIES | D4: TODAY'S PRIORITIES | E4: TODAY'S PRIORITIES | F4: TODAY'S PRIORITIES | G4: TODAY'S PRIORITIES | H4: TODAY'S PRIORITIES | I4: TODAY'S PRIORITIES | J4: TODAY'S PRIORITIES | K4: TODAY'S PRIORITIES | L4: TODAY'S PRIORITIES | M4: TODAY'S PRIORITIES | N4: TODAY'S PRIORITIES | O4: TODAY'S PRIORITIES | P4: TODAY'S PRIORITIES | Q4: TODAY'S PRIORITIES | R4: TODAY'S PRIORITIES | S4: TODAY'S PRIORITIES | T4: TODAY'S PRIORITIES
A6: Daily Action Plan | B6: Daily Action Plan | C6: Daily Action Plan | D6: Daily Action Plan | E6: Daily Action Plan | F6: Daily Action Plan | G6: Daily Action Plan | H6: Daily Action Plan | I6: Daily Action Plan | J6: Daily Action Plan | K6: Daily Action Plan | L6: Daily Action Plan | M6: Daily Action Plan | N6: Daily Action Plan | O6: Daily Action Plan | P6: Daily Action Plan | Q6: Daily Action Plan | R6: Daily Action Plan | S6: Daily Action Plan | T6: Daily Action Plan
A7: Focus the team on the actions, checks, and handovers that need attention today. | B7: Focus the team on the actions, checks, and handovers that need attention today. | C7: Focus the team on the actions, checks, and handovers that need attention today. | D7: Focus the team on the actions, checks, and handovers that need attention today. | E7: Focus the team on the actions, checks, and handovers that need attention today. | F7: Focus the team on the actions, checks, and handovers that need attention today. | G7: Focus the team on the actions, checks, and handovers that need attention today. | H7: Focus the team on the actions, checks, and handovers that need attention today. | I7: Focus the team on the actions, checks, and handovers that need attention today. | J7: Focus the team on the actions, checks, and handovers that need attention today. | K7: Focus the team on the actions, checks, and handovers that need attention today. | L7: Focus the team on the actions, checks, and handovers that need attention today. | M7: Focus the team on the actions, checks, and handovers that need attention today. | N7: Focus the team on the actions, checks, and handovers that need attention today. | O7: Focus the team on the actions, checks, and handovers that need attention today. | P7: Focus the team on the actions, checks, and handovers that need attention today. | Q7: Focus the team on the actions, checks, and handovers that need attention today. | R7: Focus the team on the actions, checks, and handovers that need attention today. | S7: Focus the team on the actions, checks, and handovers that need attention today. | T7: Focus the team on the actions, checks, and handovers that need attention today.
A10: Open tasks | B10: Open tasks | C10: Open tasks | D10: Open tasks | F10: Actions overdue | G10: Actions overdue | H10: Actions overdue | I10: Actions overdue | K10: Today's checklist | L10: Today's checklist | M10: Today's checklist | N10: Today's checklist | P10: Open handover actions | Q10: Open handover actions | R10: Open handover actions | S10: Open handover actions | T10: Open handover actions
A11: =COUNTIF(TASKS!$M$11:$M$110,"Overdue")+COUNTIF(TASKS!$M$11:$M$110,"Due today")+COUNTIF(TASKS!$M$11:$M$110,"Due soon")+COUNTIF(TASKS!$M$11:$M$110,"On track") -> 11 | F11: =COUNTIF(TASKS!$M$11:$M$110,"Overdue")+COUNTIF(HANDOVER!$M$11:$M$100,"Overdue")+COUNTIF(ISSUES!$P$11:$P$100,"Overdue") -> 3 | K11: =IF(COUNTIFS(CHECKLISTS!$B$11:$B$130,SETUP!$D$11,CHECKLISTS!$G$11:$G$130,"Yes")=0,"",COUNTIFS(CHECKLISTS!$B$11:$B$130,SETUP!$D$11,CHECKLISTS!$G$11:$G$130,"Yes",CHECKLISTS!$H$11:$H$130,"Complete")/COUNTIFS(CHECKLISTS!$B$11:$B$130,SETUP!$D$11,CHECKLISTS!$G$11:$G$130,"Yes")) -> 0.625 | P11: =COUNTIF(HANDOVER!$M$11:$M$100,"Overdue")+COUNTIF(HANDOVER!$M$11:$M$100,"Due today")+COUNTIF(HANDOVER!$M$11:$M$100,"Due soon")+COUNTIF(HANDOVER!$M$11:$M$100,"On track") -> 4
A16: TASK QUEUE | B16: TASK QUEUE | C16: TASK QUEUE | D16: TASK QUEUE | E16: TASK QUEUE | F16: TASK QUEUE | G16: TASK QUEUE | H16: TASK QUEUE | J16: HANDOVER ACTIONS | K16: HANDOVER ACTIONS | L16: HANDOVER ACTIONS | M16: HANDOVER ACTIONS | N16: HANDOVER ACTIONS | O16: HANDOVER ACTIONS | P16: HANDOVER ACTIONS | Q16: HANDOVER ACTIONS | R16: HANDOVER ACTIONS | S16: HANDOVER ACTIONS | T16: HANDOVER ACTIONS
A17: Task | B17: Department | C17: Owner | D17: Priority | E17: Due | F17: Progress | G17: Next action | H17: Reason | J17: Topic | K17: Shift | L17: From | M17: To | N17: Owner | O17: Due | P17: Reason
